BEGIN:VCALENDAR
VERSION:2.0
PRODID:-//Sabre//Sabre VObject 4.5.7//EN
CALSCALE:GREGORIAN
BEGIN:VEVENT
UID:sabre-vobject-a7cdc6c4-e444-468c-81e3-dfec52bf0c86
DTSTAMP:20260423T130955Z
SUMMARY:Kieran Goss & Annie Kinsella - Irisches Konzert
DTSTART;TZID=Europe/Berlin:20260523T193000
DTEND;TZID=Europe/Berlin:20260523T173000
ORGANIZER;CN=Kultur- und Bürgerhaus der Stadt Marne:MAILTO:no-reply@dithma
 rschen.de
LOCATION:Kultur- und Bürgerhaus Marne\, Schillerstraße 11\, Marne
GEO:53.9519118;9.0099125
DESCRIPTION:\nKieran Goss gilt als einer der führenden Singer/Songwriter I
 rlands. Gemeinsam mit Annie Kinsella veröffentlichte er das Album "Oh\, T
 he Starlings".\n\nKieran Goss gilt als einer der führenden Singer/Songwri
 ter Irlands. Gemeinsam mit Annie Kinsella veröffentlichte er das Album "O
 h\, The Starlings"\, das für die beiden Künstler zu ausverkauften Konzer
 ten in den größten Hallen der grünen Insel führte. Seit vielen Jahren 
 touren Kieran und Annie auch durch Deutschland\, wo sie sich eine treue un
 d stetig wachsende Fangemeinde aufgebaut haben\, die nicht nur wegen der g
 roßartigen Songs und der beiden harmonierenden Stimmen\, sondern auch weg
 en der Geschichten voller Witz und irischem Charme immer wieder zu den Kon
 zerten kommt. Ins KBH Marne kommen die beiden zum zweiten Mal - mit einer 
 ganz besonderen Show und vielen neuen\, noch unveröffentlichten Songs.
BEGIN:VALARM
TRIGGER;VALUE=DURATION:P1D
ACTION:DISPLAY
DESCRIPTION:Kieran Goss & Annie Kinsella - Irisches Konzert
END:VALARM
END:VEVENT
END:VCALENDAR
