BEGIN:VCALENDAR
VERSION:2.0
PRODID:-//Sabre//Sabre VObject 4.5.7//EN
CALSCALE:GREGORIAN
BEGIN:VEVENT
UID:sabre-vobject-591dc0e6-fd1a-4af7-839a-3704bf0fb89b
DTSTAMP:20260423T131159Z
SUMMARY:Kiluna - Lieder mit Seele
DTSTART;TZID=Europe/Berlin:20260523T170000
DTEND;TZID=Europe/Berlin:20260523T183000
ORGANIZER;CN=Heider Wasserturm:MAILTO:no-reply@dithmarschen.de
LOCATION:Heider Wasserturm\, Österweide \, Heide
GEO:54.1972151;9.0970078
DESCRIPTION:\nKiluna - Lieder mit SeeleSamstag\, 23. Mai 2026 | 17:00 UhrKo
 nzert im Heider WasserturmWenn Kiluna spielt\, wird Musik spürbar.Ihre So
 ngs gehen nicht einfach ins Ohr - sie finden ihren Weg direkt ins Herz. Mi
 t einer besonderen Mischung aus Wärme\, Tiefe und Ausdruck entsteht ein K
 lang\, der berührt\, trägt und nachklingt. Jeder Ton erzählt\, jede Sti
 mme fühlt\, jeder Moment entsteht genau im Hier und Jetzt.Im einzigartige
 n Ambiente des Heider Wasserturms entfaltet sich ein Konzert\, das mehr is
 t als Musik - es ist Begegnung\, Atmosphäre und Emotion zugleich. Zwische
 n Himmel und Stadt entsteht ein Raum\, in dem man für einen Augenblick al
 les andere vergisst.Ein leiser Moment.Ein intensives Erlebnis.Ein Konzert\
 , das bleibt.Um Spenden für unseren Verein Kultur hilft! e.V. wird gebete
 n.Hinweis: Der Veranstaltungsort ist nicht barrierefrei.
BEGIN:VALARM
TRIGGER;VALUE=DURATION:P1D
ACTION:DISPLAY
DESCRIPTION:Kiluna - Lieder mit Seele
END:VALARM
END:VEVENT
END:VCALENDAR
