BEGIN:VCALENDAR
VERSION:2.0
PRODID:-//Sabre//Sabre VObject 4.5.7//EN
CALSCALE:GREGORIAN
BEGIN:VEVENT
UID:sabre-vobject-ac42e01a-f3b0-4354-ba91-f96ff2339bfa
DTSTAMP:20260423T130749Z
SUMMARY:Nervling in Concert
DTSTART;TZID=Europe/Berlin:20260523T200000
ORGANIZER;CN=Alte Druckerei:MAILTO:no-reply@dithmarschen.de
LOCATION:Alte Druckerei\, Güterstraße \, Heide
GEO:54.1931716;9.1005294
DESCRIPTION:\nEine Veranstaltung der Reihe Nervling in Concert - Heider Kul
 Tour Tage 2026\n\nPudding - Vogel - Autsch! Noch Fragen? Moira Serfling un
 d Tom Baetzel lassen die Erde wieder beben und sich die Gesichter verforme
 n! Ihre musikalische Show wird automatisch zu einem Grinsewettbewerb\, der
  mal aus dem Bauch\, dem Herzen oder dem Kopf getriggert wird. Die zeitlos
 en Ohrwürmer der letzten 16 Jahren Bandgeschichte wollen zu euch! Wer ein
 mal da war\, kommt immer wieder!
BEGIN:VALARM
TRIGGER;VALUE=DURATION:P1D
ACTION:DISPLAY
DESCRIPTION:Nervling in Concert
END:VALARM
END:VEVENT
END:VCALENDAR
