BEGIN:VCALENDAR
VERSION:2.0
PRODID:-//Sabre//Sabre VObject 4.5.7//EN
CALSCALE:GREGORIAN
BEGIN:VEVENT
UID:sabre-vobject-af4c0f6c-133d-400b-a0d2-fb1892875f0e
DTSTAMP:20260423T130749Z
SUMMARY:Pfingstvolksfest Albersdorf - 3-Tages-Ticket
DTSTART;TZID=Europe/Berlin:20260523T180000
ORGANIZER;CN=Waldbühne Albersdorf:MAILTO:no-reply@dithmarschen.de
LOCATION:Waldbühne Albersdorf\, Bahnhofstraße 22\, Albersdorf
GEO:54.1456225;9.2894635
DESCRIPTION:Eine Veranstaltung der Reihe Pfingstvolksfest Albersdorf 2026\n
 \nPfingstvolksfest Albersdorf 2026
BEGIN:VALARM
TRIGGER;VALUE=DURATION:P1D
ACTION:DISPLAY
DESCRIPTION:Pfingstvolksfest Albersdorf - 3-Tages-Ticket
END:VALARM
END:VEVENT
END:VCALENDAR
