BEGIN:VCALENDAR
VERSION:2.0
PRODID:-//Sabre//Sabre VObject 4.5.7//EN
CALSCALE:GREGORIAN
BEGIN:VEVENT
UID:sabre-vobject-870e181f-1067-498b-a5e5-4b270e1c9ff7
DTSTAMP:20260423T131112Z
SUMMARY:Pfingstvolksfest Albersdorf - Ticket Samstag - Kinder
DTSTART;TZID=Europe/Berlin:20260523T180000
ORGANIZER;CN=Waldbühne Albersdorf:MAILTO:no-reply@dithmarschen.de
LOCATION:Waldbühne Albersdorf\, Bahnhofstraße 22\, Albersdorf
GEO:54.1456225;9.2894635
DESCRIPTION:\nEine Veranstaltung der Reihe Pfingstvolksfest Albersdorf 2026
 \n\nPfingstvolksfest Albersdorf 2026Seit über 120Jahren steht das Pfingst
 volksfest Albersdorf für Gemeinschaft\, gute Stimmung und ein vielseitige
 s Programm für die ganze Familie.Bereits ab FREITAG startet der große Ve
 rgnügungsmarkt mit Fahrgeschäften\, Buden und Attraktionen.Der Freitag i
 st nicht im 3-Tagesticket enthalten und kann ausschließlich an der Abendk
 asse besucht werden. Mit dem 3-Tagesticket für das Pfingstvolksfest Alber
 sdorf 2026 erleben Sie das komplette Festwochenende von Samstag bis Sonnta
 g bzw. Montag und erhalten Zugang zu allen Highlights dieser traditionsrei
 chen Veranstaltung. Der Eintritt ist an allen Veranstaltungstagen bis 17Uh
 r kostenfrei. Das 3-Tagesticket gilt jeweils ab 17Uhr für die Abendverans
 taltungen und Bühnenprogramme. SAMSTAG: Mit dem Samstagabend-Ticket erleb
 en Sie ab 17 Uhr einen hochkarätigen Konzertabend im Kurpark auf der Wald
 bühne mit großer Bühne\, professioneller Show und einzigartiger Atmosph
 äre. Der Eintritt ist am Samstag bis 17 Uhr kostenfrei. Im Mittelpunkt de
 s Abends stehen die Auftritte von Vanessa Mai\, Big Maggas und Rosa Weiss\
 , die mit Schlager\, Partyhits und mitreißender Live-Musik für ausgelass
 ene Stimmung sorgen. Ein eindrucksvolles Feuerwerk setzt den emotionalen H
 öhepunkt des Abends. Im Anschluss lädt der Tanz & Treff mit Yves B zum F
 eiern\, Tanzen und Verweilen ein und lässt den Samstagabend stimmungsvoll
  ausklingen. SONNTAG: Bereits tagsüber begeistert der große Festumzug du
 rch den Ort sowie ein umfangreiches Familienprogramm mit Musik\, Showeinla
 gen und Kinderaktionen. Am Abend sorgt die Top-Forty-Band Just for Fun im 
 Wechsel mit DJ Winnetou für ausgelassene Tanz- und Partystimmung im Kurpa
 rk. Parallel lädt auf einer weiteren Bühne der Partytower mit DJ Tobey N
 ize zum Feiern ein und bietet zusätzliche musikalische Abwechslung. MONTA
 G: Am Montag klingt das Pfingstvolksfest mit der Liveband Wild Touch im We
 chsel mit DJ Hertha stimmungsvoll aus.Für das leibliche Wohl sorgt unter 
 anderem der Wurstpalast im Kurpark.
BEGIN:VALARM
TRIGGER;VALUE=DURATION:P1D
ACTION:DISPLAY
DESCRIPTION:Pfingstvolksfest Albersdorf - Ticket Samstag - Kinder
END:VALARM
END:VEVENT
END:VCALENDAR
