BEGIN:VCALENDAR
VERSION:2.0
PRODID:-//Sabre//Sabre VObject 4.5.7//EN
CALSCALE:GREGORIAN
BEGIN:VEVENT
UID:sabre-vobject-d03bef13-f015-499b-80d7-19eaf065cb1d
DTSTAMP:20260421T085046Z
SUMMARY:Wattwanderung in den Sonnenuntergang vor Büsum
DTSTART;TZID=Europe/Berlin:20250919T180000
ORGANIZER;CN="Treffpunkt: Leuchtturm Büsum":MAILTO:no-reply@dithmarschen.d
 e
LOCATION:Treffpunkt: Leuchtturm Büsum\, Südstrand 7A\, Büsum
GEO:54.12686;8.8584101
DESCRIPTION:\nEine Wattführung der besonderen Art in Büsum: Sonnenunterga
 ng im Watt mit Lyrik und spannenden InfosEine Wattführung der besonderen 
 Art in Büsum: Sonnenuntergang im Watt mit stimmungsvollen Geschichten von
  der Küste und fachkundigen Infos zu Wattwurm und Co.Lassen Sie sich in d
 er Abendstimmung in die faszinierende Welt der Tiere und Pflanzen im Natio
 nalpark Wattenmeer entführen. Nordische Geschichten und Sagen sorgen mit 
 dem Sonnenuntergang für eine stimmungsvolle Wattführung\, während Sie s
 pannende Krebse\, Muscheln und Schnecken im "Lebensraum auf den zweiten Bl
 ick" entdecken! Das Watt mal ganz anders erleben und zwischen Ebbe und Flu
 t auf dem Meeresboden laufen. Gern barfuß. Bei kühlem Wetter werden Gumm
 istiefel empfohlen.9 Euro/Erwachsene\, 5 Euro/Kinder bis 14 Jahre\, bei Fa
 milien sind das 3. und weitere Kinder frei
BEGIN:VALARM
TRIGGER;VALUE=DURATION:P1D
ACTION:DISPLAY
DESCRIPTION:Wattwanderung in den Sonnenuntergang vor Büsum
END:VALARM
END:VEVENT
END:VCALENDAR
